BEGIN:VCALENDAR
VERSION:2.0
PRODID:-//In|Die RegionWestfalen - ECPv6.15.20//NONSGML v1.0//EN
CALSCALE:GREGORIAN
METHOD:PUBLISH
X-ORIGINAL-URL:https://www.regionwestfalen.de
X-WR-CALDESC:Veranstaltungen für In|Die RegionWestfalen
REFRESH-INTERVAL;VALUE=DURATION:PT1H
X-Robots-Tag:noindex
X-PUBLISHED-TTL:PT1H
BEGIN:VTIMEZONE
TZID:Europe/Berlin
BEGIN:DAYLIGHT
TZOFFSETFROM:+0100
TZOFFSETTO:+0200
TZNAME:CEST
DTSTART:20240331T010000
END:DAYLIGHT
BEGIN:STANDARD
TZOFFSETFROM:+0200
TZOFFSETTO:+0100
TZNAME:CET
DTSTART:20241027T010000
END:STANDARD
BEGIN:DAYLIGHT
TZOFFSETFROM:+0100
TZOFFSETTO:+0200
TZNAME:CEST
DTSTART:20250330T010000
END:DAYLIGHT
BEGIN:STANDARD
TZOFFSETFROM:+0200
TZOFFSETTO:+0100
TZNAME:CET
DTSTART:20251026T010000
END:STANDARD
BEGIN:DAYLIGHT
TZOFFSETFROM:+0100
TZOFFSETTO:+0200
TZNAME:CEST
DTSTART:20260329T010000
END:DAYLIGHT
BEGIN:STANDARD
TZOFFSETFROM:+0200
TZOFFSETTO:+0100
TZNAME:CET
DTSTART:20261025T010000
END:STANDARD
END:VTIMEZONE
BEGIN:VEVENT
DTSTART;TZID=Europe/Berlin:20251112T080000
DTEND;TZID=Europe/Berlin:20251112T220000
DTSTAMP:20260424T200955
CREATED:20250826T123534Z
LAST-MODIFIED:20251006T123727Z
UID:4095-1762934400-1762984800@www.regionwestfalen.de
SUMMARY:Unternehmerreise zur Precision Fair Messe 2025 (NL)
DESCRIPTION:Am 12. November 2025 laden das Netzwerk In|Die RegionWestfalen\, der IVAM Fachverband für Mikrotechnik \, die Wirtschaftsförderung Mönchengladbach\, die Zenit GmbH und das Cluster NMPW.NRW  interessierte Unternehmen zu einer Unternehmerreise nach ’s-Hertogenbosch (NL) ein. Ziel ist der Besuch der Precision Fair 2025\, einer der führenden Messen für Präzisionstechnologien. \nDie Precision Fair gilt als zentrale Netzwerkplattform der Hightech-Industrie: Internationale und regionale Akteure aus Wirtschaft\, Wissenschaft und Forschung kommen hier zusammen\, um neueste Entwicklungen aus den Bereichen Präzisionstechnik\, Mikrotechnik und High-End-Fertigung zu präsentieren und zu diskutieren. Unsere Unternehmerreise bietet die Gelegenheit\, spannende Geschäftskontakte zu knüpfen\, Innovationspartner kennenzulernen und Einblicke in aktuelle Trends und technologische Lösungen zu gewinnen. \n  \nWas erwartet Sie dort? \n\nÜber 350 Aussteller aus Produktion\, Forschung und Entwicklung\n50 Sessions\, in denen Expertinnen und Experten neueste Trends und Entwicklungen vorstellen.\nThemenschwerpunkte wie Laser & Photonik\, Mikrotechnologie & Bewegung\, Mechatronik\, Metrologie\, Vakuum- und Clean-Technologien\, und Produktionsmethoden für höchste Genauigkeit.\nInternationale Pitching-Session mit internationalen Teilnehmern\n\n  \nTreffen Sie Unternehmen\, Organisationen\, Bildungs- und Wissenseinrichtungen sowie wissenschaftliche Institute mit den Schwerpunkten: \n\nFeinmechanik (Mikron)\nMechatronik\nMesstechnik\nPhotonik und Optik\nMikro- und Nanotechnologie\nPräzisionsfertigung\, -bearbeitung und -werkzeuge\nMikropositionierung\nVakuum- und Reinraumtechnik\n\n  \nDas Programm: \n08:00 Uhr:        Abfahrt in Dortmund \n09:15 Uhr:         Zwischenstopp & Abfahrt in Mönchengladbach \n10:45 Uhr:         Ankunft in ’s-Hertogenbosch \n11:00 Uhr:          Individueller Messerundgang / Messeführung (optional) \n12:00 Uhr:         Internationale Pitching-Session\, organisiert von BOM (optional) \n17:00 Uhr:         Abendveranstaltung auf der Messe \n19:30 Uhr:         Abfahrt nach Mönchengladbach & Dortmund \nca. 22:00 Uhr:   Ankunft in Dortmund \n  \nDie Teilnahme ist kostenlos. Detaillierte Informationen erhalten Sie nach der Anmeldung.\nBei Fragen wenden Sie sich gerne an Aysen Atakli (atakli@regionwestfalen.de).
URL:https://www.regionwestfalen.de/veranstaltung/unternehmerreise-zur-precision-fair-messe-2025-nl/
LOCATION:Brabanthallen\, Diezekade\, ´s-Hertogenbosch\, 5222 AK\, Netherlands
CATEGORIES:Messe Gemeinschaftsstände,Unternehmensreisen
ATTACH;FMTTYPE=image/jpeg:https://www.regionwestfalen.de/wp-content/uploads/2025/08/IDR-AAA-134-scaled.jpg
ORGANIZER;CN="In|Die RegionWestfalen Standort Dortmund":MAILTO:nagusch@regionwestfalen.de
END:VEVENT
END:VCALENDAR