BEGIN:VCALENDAR
VERSION:2.0
PRODID:-//In|Die RegionWestfalen - ECPv6.15.20//NONSGML v1.0//EN
CALSCALE:GREGORIAN
METHOD:PUBLISH
X-WR-CALNAME:In|Die RegionWestfalen
X-ORIGINAL-URL:https://www.regionwestfalen.de
X-WR-CALDESC:Veranstaltungen für In|Die RegionWestfalen
REFRESH-INTERVAL;VALUE=DURATION:PT1H
X-Robots-Tag:noindex
X-PUBLISHED-TTL:PT1H
BEGIN:VTIMEZONE
TZID:Europe/Berlin
BEGIN:DAYLIGHT
TZOFFSETFROM:+0100
TZOFFSETTO:+0200
TZNAME:CEST
DTSTART:20250330T010000
END:DAYLIGHT
BEGIN:STANDARD
TZOFFSETFROM:+0200
TZOFFSETTO:+0100
TZNAME:CET
DTSTART:20251026T010000
END:STANDARD
BEGIN:DAYLIGHT
TZOFFSETFROM:+0100
TZOFFSETTO:+0200
TZNAME:CEST
DTSTART:20260329T010000
END:DAYLIGHT
BEGIN:STANDARD
TZOFFSETFROM:+0200
TZOFFSETTO:+0100
TZNAME:CET
DTSTART:20261025T010000
END:STANDARD
BEGIN:DAYLIGHT
TZOFFSETFROM:+0100
TZOFFSETTO:+0200
TZNAME:CEST
DTSTART:20270328T010000
END:DAYLIGHT
BEGIN:STANDARD
TZOFFSETFROM:+0200
TZOFFSETTO:+0100
TZNAME:CET
DTSTART:20271031T010000
END:STANDARD
END:VTIMEZONE
BEGIN:VEVENT
DTSTART;TZID=Europe/Berlin:20260422T160000
DTEND;TZID=Europe/Berlin:20260422T190000
DTSTAMP:20260422T024025
CREATED:20260402T112323Z
LAST-MODIFIED:20260402T112323Z
UID:4502-1776873600-1776884400@www.regionwestfalen.de
SUMMARY:KI trifft Nachhaltigkeit: Selbstlernende Systeme in der Produktion
DESCRIPTION:Die Digitalisierung moderner Produktionssysteme ist aus ökologischer und ökonomischer Sicht ein wichtiger Faktor zur Erhaltung der Wettbewerbsfähigkeit. Insbesondere die großen Fortschritte der letzten Jahre im Bereich der künstlichen Intelligenz und die Gewinnung großer Datenmengen mittels intelligenter Sensorik\, ebnet den Weg für neuartige Ansätze zur Optimierung der Produktion. Deshalb laden wir Sie gemeinsam mit der Wirtschaftsförderung Werne und dem Netzwerk In|Die RegionWestfalen herzlich zur Veranstaltung \n\nKI trifft Nachhaltigkeit: Selbstlernende Systeme in der Produktion am 22. April von 16:00 – 19:00 Uhr bei der Thermo Sensor GmbH\, Carl-Zeiss-Straße 1 in Werne ein. \n\nIn einem praxisorientierten Fachvortrag gibt Prof. Andreas Schwung von der Fachhochschule Südwestfalen einen Überblick über innovative und gleichzeitig bereits praktisch einsetzbare Verfahren der KI in der Produktion. Es wird ferner gezeigt\, wie selbstlernende Systeme in produktionstechnischen Anwendungen ein- und umgesetzt werden können mit dem Ziel die Produktion einerseits performanter und nebenbei auch nachhaltiger zu machen. Der Vortrag gibt hierbei zunächst einen Überblick über den Stand der Technik und stellt abschließend innovative Forschungsansätze vor. \n\nDarüber hinaus erhalten Sie – auch im Rahmen einer Führung – Einblicke in die Produktionsprozesse der Thermosensor GmbH. \n\nNeben fachlichen Impulsen steht vor allem der Austausch mit Unternehmen aus der Region im Mittelpunkt. Nutzen Sie die Gelegenheit\, sich mit Expertinnen und Experten aus Wissenschaft und Wirtschaft zu vernetzen und gemeinsam über Chancen und praktische Anwendungsfelder von KI in der Produktion zu diskutieren. \n\nDie Teilnahme ist kostenfrei\, die Plätze jedoch begrenzt. Bitte melden Sie sich per Mail an veranstaltung@wfg-kreis-unna.de an. Die Veranstaltung wird durch Mittel der EU und des Landes NRW gefördert. \n\nWir freuen uns auf Ihre Teilnahme und einen spannenden Austausch!
URL:https://www.regionwestfalen.de/veranstaltung/ki-trifft-nachhaltigkeit-selbstlernende-systeme-in-der-produktion/
LOCATION:Thermo Sensor GmbH\, Carl-Zeiss-Straße 1\, Werne an der Lippe\, Germany
ATTACH;FMTTYPE=image/jpeg:https://www.regionwestfalen.de/wp-content/uploads/2026/02/AdobeStock_735219110_bearb.jpg
END:VEVENT
END:VCALENDAR